BEGIN:VCALENDAR
VERSION:2.0
PRODID:-//Oblastný výbor Východ SVF - ECPv6.15.20//NONSGML v1.0//EN
CALSCALE:GREGORIAN
METHOD:PUBLISH
X-WR-CALNAME:Oblastný výbor Východ SVF
X-ORIGINAL-URL:https://svfov.sk
X-WR-CALDESC:Udalosti pre Oblastný výbor Východ SVF
REFRESH-INTERVAL;VALUE=DURATION:PT1H
X-Robots-Tag:noindex
X-PUBLISHED-TTL:PT1H
BEGIN:VTIMEZONE
TZID:Europe/Bratislava
BEGIN:DAYLIGHT
TZOFFSETFROM:+0100
TZOFFSETTO:+0200
TZNAME:CEST
DTSTART:20250330T010000
END:DAYLIGHT
BEGIN:STANDARD
TZOFFSETFROM:+0200
TZOFFSETTO:+0100
TZNAME:CET
DTSTART:20251026T010000
END:STANDARD
BEGIN:DAYLIGHT
TZOFFSETFROM:+0100
TZOFFSETTO:+0200
TZNAME:CEST
DTSTART:20260329T010000
END:DAYLIGHT
BEGIN:STANDARD
TZOFFSETFROM:+0200
TZOFFSETTO:+0100
TZNAME:CET
DTSTART:20261025T010000
END:STANDARD
BEGIN:DAYLIGHT
TZOFFSETFROM:+0100
TZOFFSETTO:+0200
TZNAME:CEST
DTSTART:20270328T010000
END:DAYLIGHT
BEGIN:STANDARD
TZOFFSETFROM:+0200
TZOFFSETTO:+0100
TZNAME:CET
DTSTART:20271031T010000
END:STANDARD
END:VTIMEZONE
BEGIN:VEVENT
DTSTART;VALUE=DATE:20260508
DTEND;VALUE=DATE:20260511
DTSTAMP:20260425T180120
CREATED:20260417T121348Z
LAST-MODIFIED:20260417T121348Z
UID:3127-1778198400-1778457599@svfov.sk
SUMMARY:Majstrovstvá Slovenska mladších žiačok
DESCRIPTION:Majstrovstvá Slovenska mladších žiačok sa budú konať v Spišskej Novej Vsi v termíne 8.-10.5.2026
URL:https://svfov.sk/podujatie/majstrovstva-slovenska-mladsich-ziacok/
END:VEVENT
BEGIN:VEVENT
DTSTART;VALUE=DATE:20260516
DTEND;VALUE=DATE:20260518
DTSTAMP:20260425T180120
CREATED:20260417T121141Z
LAST-MODIFIED:20260417T121232Z
UID:3123-1778889600-1779062399@svfov.sk
SUMMARY:Majstrovstvá Slovenska mladších žiakov
DESCRIPTION:Majstrovstvá Slovenska mladších žiakov sa budú konať vo Svidníku v termíne 16.-17.5.2026
URL:https://svfov.sk/podujatie/majstrovstva-slovenska-mladsich-ziakov/
END:VEVENT
BEGIN:VEVENT
DTSTART;VALUE=DATE:20260523
DTEND;VALUE=DATE:20260525
DTSTAMP:20260425T180120
CREATED:20260417T121004Z
LAST-MODIFIED:20260417T121256Z
UID:3120-1779494400-1779667199@svfov.sk
SUMMARY:Majstrovstvá Slovenska kadetov
DESCRIPTION:Majstrovstvá Slovenska kadetov sa budú konať v Starej Ľubovni v termíne 23.-24.5.2026
URL:https://svfov.sk/podujatie/m-sr-kadetov/
END:VEVENT
END:VCALENDAR