BEGIN:VCALENDAR
VERSION:2.0
PRODID:-//Oblastný výbor Východ SVF - ECPv6.15.20//NONSGML v1.0//EN
CALSCALE:GREGORIAN
METHOD:PUBLISH
X-WR-CALNAME:Oblastný výbor Východ SVF
X-ORIGINAL-URL:https://svfov.sk
X-WR-CALDESC:Udalosti pre Oblastný výbor Východ SVF
REFRESH-INTERVAL;VALUE=DURATION:PT1H
X-Robots-Tag:noindex
X-PUBLISHED-TTL:PT1H
BEGIN:VTIMEZONE
TZID:Europe/Bratislava
BEGIN:DAYLIGHT
TZOFFSETFROM:+0100
TZOFFSETTO:+0200
TZNAME:CEST
DTSTART:20240331T010000
END:DAYLIGHT
BEGIN:STANDARD
TZOFFSETFROM:+0200
TZOFFSETTO:+0100
TZNAME:CET
DTSTART:20241027T010000
END:STANDARD
BEGIN:DAYLIGHT
TZOFFSETFROM:+0100
TZOFFSETTO:+0200
TZNAME:CEST
DTSTART:20250330T010000
END:DAYLIGHT
BEGIN:STANDARD
TZOFFSETFROM:+0200
TZOFFSETTO:+0100
TZNAME:CET
DTSTART:20251026T010000
END:STANDARD
BEGIN:DAYLIGHT
TZOFFSETFROM:+0100
TZOFFSETTO:+0200
TZNAME:CEST
DTSTART:20260329T010000
END:DAYLIGHT
BEGIN:STANDARD
TZOFFSETFROM:+0200
TZOFFSETTO:+0100
TZNAME:CET
DTSTART:20261025T010000
END:STANDARD
BEGIN:DAYLIGHT
TZOFFSETFROM:+0100
TZOFFSETTO:+0200
TZNAME:CEST
DTSTART:20270328T010000
END:DAYLIGHT
BEGIN:STANDARD
TZOFFSETFROM:+0200
TZOFFSETTO:+0100
TZNAME:CET
DTSTART:20271031T010000
END:STANDARD
END:VTIMEZONE
BEGIN:VEVENT
DTSTART;VALUE=DATE:20250910
DTEND;VALUE=DATE:20250911
DTSTAMP:20260426T034741
CREATED:20250806T095535Z
LAST-MODIFIED:20251102T054940Z
UID:2940-1757462400-1757548799@svfov.sk
SUMMARY:Uzávierka prihlasovania do súťaží
DESCRIPTION:SK ObV Východ SVF stanovila termín na zadanie elektronických prihlášok do jednotlivých súťaží\, úhradu vkladu do súťaže a členského poplatku za klub\, pre súťaže mladšieho žiactva 4-ák\, 3-ák do 10.9.2025. \nVykonávacie pokyny ObV Východ SVF 2025-2026 obsahujú potrebné informácie k podaniu prihlášky a uhradeniu poplatkov do jednotlivých súťaží.
URL:https://svfov.sk/podujatie/uzavierka-prihlasovania-do-sutazi/
END:VEVENT
BEGIN:VEVENT
DTSTART;VALUE=DATE:20250913
DTEND;VALUE=DATE:20250914
DTSTAMP:20260426T034741
CREATED:20250806T094044Z
LAST-MODIFIED:20251102T054947Z
UID:2935-1757721600-1757807999@svfov.sk
SUMMARY:Licenčný seminár “B/C“
DESCRIPTION:V Prešove sa uskutoční licenčný seminár pre držiteľov trénerskej licencie „B/C“. Lektorom seminára je Erik Digaňa. \nPrihlášku na licenčné semináre nájdete v sekcii vzdelávanie – semináre: https://slovakvolley.sk/page/seminare-trenerov \nPokiaľ sa prihlásená osoba zúčastní licenčného seminára bez vyplnenia registračného formulára\, alebo sa bez ospravedlnenia nezúčastní licenčného seminára (na ktorý sa prihlásila)\, tak bude voči nej účtovaný administratívny poplatok vo výške 20\,-€.
URL:https://svfov.sk/podujatie/licencny-seminar-b-c/
END:VEVENT
BEGIN:VEVENT
DTSTART;TZID=Europe/Bratislava:20250913T113000
DTEND;TZID=Europe/Bratislava:20250913T130000
DTSTAMP:20260426T034741
CREATED:20250806T095757Z
LAST-MODIFIED:20251102T055057Z
UID:2942-1757763000-1757768400@svfov.sk
SUMMARY:Porada vedúcich družstiev
DESCRIPTION:Porada vedúcich družstiev sa uskutoční po skončení licenčného seminára v budove ZŠ Šrobárová.
URL:https://svfov.sk/podujatie/porada-veducich-druzstiev/
END:VEVENT
BEGIN:VEVENT
DTSTART;VALUE=DATE:20250920
DTEND;VALUE=DATE:20250921
DTSTAMP:20260426T034741
CREATED:20250806T095312Z
LAST-MODIFIED:20251102T055102Z
UID:2938-1758326400-1758412799@svfov.sk
SUMMARY:Školenia zapisovateľov  - elektronický zápis  (extraliga a 1. liga)
DESCRIPTION:Asociácia volejbalových rozhodcov organizuje v spolupráci so SVF školenia zapisovateľov na elektronický zápis pre najvyššie (Niké Extraliga) a prvoligové súťaže (1. liga muži\, ženy\, juniori\, juniorky). \nVšetky informácie\, vrátane prihlášky\, nájdete na webovej stránke SVF: https://slovakvolley.sk/page/skolenia-zapisovatelov
URL:https://svfov.sk/podujatie/skolenia-zapisovatelov-elektronicky-zapis-extraliga-a-1-liga/
END:VEVENT
BEGIN:VEVENT
DTSTART;VALUE=DATE:20260508
DTEND;VALUE=DATE:20260511
DTSTAMP:20260426T034741
CREATED:20260417T121348Z
LAST-MODIFIED:20260417T121348Z
UID:3127-1778198400-1778457599@svfov.sk
SUMMARY:Majstrovstvá Slovenska mladších žiačok
DESCRIPTION:Majstrovstvá Slovenska mladších žiačok sa budú konať v Spišskej Novej Vsi v termíne 8.-10.5.2026
URL:https://svfov.sk/podujatie/majstrovstva-slovenska-mladsich-ziacok/
END:VEVENT
BEGIN:VEVENT
DTSTART;VALUE=DATE:20260516
DTEND;VALUE=DATE:20260518
DTSTAMP:20260426T034741
CREATED:20260417T121141Z
LAST-MODIFIED:20260417T121232Z
UID:3123-1778889600-1779062399@svfov.sk
SUMMARY:Majstrovstvá Slovenska mladších žiakov
DESCRIPTION:Majstrovstvá Slovenska mladších žiakov sa budú konať vo Svidníku v termíne 16.-17.5.2026
URL:https://svfov.sk/podujatie/majstrovstva-slovenska-mladsich-ziakov/
END:VEVENT
BEGIN:VEVENT
DTSTART;VALUE=DATE:20260523
DTEND;VALUE=DATE:20260525
DTSTAMP:20260426T034741
CREATED:20260417T121004Z
LAST-MODIFIED:20260417T121256Z
UID:3120-1779494400-1779667199@svfov.sk
SUMMARY:Majstrovstvá Slovenska kadetov
DESCRIPTION:Majstrovstvá Slovenska kadetov sa budú konať v Starej Ľubovni v termíne 23.-24.5.2026
URL:https://svfov.sk/podujatie/m-sr-kadetov/
END:VEVENT
BEGIN:VEVENT
DTSTART;VALUE=DATE:20260605
DTEND;VALUE=DATE:20260608
DTSTAMP:20260426T034741
CREATED:20260306T093522Z
LAST-MODIFIED:20260306T093522Z
UID:3101-1780617600-1780876799@svfov.sk
SUMMARY:Školenie na získanie oprávnenia „tréner volejbalu II. kvalifikačného stupňa“ - špeciálna časť
DESCRIPTION:Dátum:     05. 06. – 07. 06. 2026 \n12. 06. – 14. 06. 2016 \n20. 06. 2026 \nMiesto konania: Fakulta športu PU v Prešove\, 17. novembra č. 15\, 080 01 Prešov \nRozsah školenia: 60 vyučovacích hodín \nElektronická prihláška: https://forms.office.com/e/bBp7bYAxGn \nÚčastnícky poplatok: bude určený podľa počtu prihlásených uchádzačov a oznámený individuálne po uzatvorení záväzných prihlášok (max. cena 300 €/ účastník)* \nÚhrada poplatku: možnosť úhrady bude oznámená po uzatvorení záväzných prihlášok \nUbytovanie: individuálne (organizátor nezabezpečuje) \nStrava: individuálne (v dosahu miesta školenia je bufet a reštauračné zariadenia) \nUzávierka prijímania prihlášok: 25. 05. 2026 do 12:00 hod. \nPotvrdenie konania/zrušenia školenia: 26. 05. 2026 \nPoplatok uhradiť v termíne: 26. – 31. 05. 2026 \nŠkolenia sa môžu zúčastniť aj frekventanti\, ktorý v čase jeho realizácie nebudú mať ukončenú všeobecnú časť príslušného kvalifikačného stupňa. Osvedčenie o spôsobilosti bude v takom prípade vydané až po dodatočnom dokladovaní ukončenia všeobecnej časti vzdelávania.
URL:https://svfov.sk/podujatie/skolenie-na-ziskanie-opravnenia-trener-volejbalu-ii-kvalifikacneho-stupna-specialna-cast/
END:VEVENT
BEGIN:VEVENT
DTSTART;VALUE=DATE:20260620
DTEND;VALUE=DATE:20260621
DTSTAMP:20260426T034741
CREATED:20260417T121514Z
LAST-MODIFIED:20260417T121514Z
UID:3129-1781913600-1781999999@svfov.sk
SUMMARY:GRANDEN Festival mládeže SVF
DESCRIPTION:GRANDEN Festival mládeže SVF sa bude konať 20.6.2026
URL:https://svfov.sk/podujatie/granden-festival-mladeze-svf/
END:VEVENT
BEGIN:VEVENT
DTSTART;VALUE=DATE:20260912
DTEND;VALUE=DATE:20260914
DTSTAMP:20260426T034741
CREATED:20260306T092843Z
LAST-MODIFIED:20260306T093040Z
UID:3099-1789171200-1789343999@svfov.sk
SUMMARY:Školenie trénerov I. kvalifikačného stupňa – špecializačná časť
DESCRIPTION:Dátum:       prvá časť 12. 09. – 13. 09. 2026 \ndruhá časť 19. 09. – 20. 09. 2026 * \nMiesto konania: Fakulta športu PU v Prešove\, Ul. 17. novembra č. 15\, 080 01 Prešov (miestnosť bude upresnená) \nElektronická prihláška: https://forms.office.com/e/t5SWNGfAVC \nÚčastnícky poplatok: 230 €/ účastník \nÚhrada poplatku: možnosť úhrady bude oznámená po uzatvorení záväzných prihlášok \nUbytovanie: individuálne (organizátor nezabezpečuje) \nStrava: individuálne (v dosahu miesta školenia je bufet a reštauračné zariadenia) \nUzávierka prijímania prihlášok: 01. 09. 2026 do 14:00 \nPotvrdenie konania/zrušenia školenia: 02. 09. 2026 \nPoplatok uhradiť v termíne: 02. 09. – 07. 09. 2026 \n  \n* Organizátor si v prípade nízkeho záujmu vyhradzuje právo školenie zrušiť (prípadné zrušenie oznámime najneskôr v deň určený na potvrdenie konania školenia).
URL:https://svfov.sk/podujatie/skolenie-trenerov-i-kvalifikacneho-stupna-specializacna-cast/
END:VEVENT
END:VCALENDAR